BEGIN:VCALENDAR
VERSION:2.0
PRODID:-//ISC2 London Chapter - ECPv6.15.17.1//NONSGML v1.0//EN
CALSCALE:GREGORIAN
METHOD:PUBLISH
X-ORIGINAL-URL:https://isc2londonchapter.co.uk
X-WR-CALDESC:Events for ISC2 London Chapter
REFRESH-INTERVAL;VALUE=DURATION:PT1H
X-Robots-Tag:noindex
X-PUBLISHED-TTL:PT1H
BEGIN:VTIMEZONE
TZID:Europe/London
BEGIN:DAYLIGHT
TZOFFSETFROM:+0000
TZOFFSETTO:+0100
TZNAME:BST
DTSTART:20180325T010000
END:DAYLIGHT
BEGIN:STANDARD
TZOFFSETFROM:+0100
TZOFFSETTO:+0000
TZNAME:GMT
DTSTART:20181028T010000
END:STANDARD
BEGIN:DAYLIGHT
TZOFFSETFROM:+0000
TZOFFSETTO:+0100
TZNAME:BST
DTSTART:20190331T010000
END:DAYLIGHT
BEGIN:STANDARD
TZOFFSETFROM:+0100
TZOFFSETTO:+0000
TZNAME:GMT
DTSTART:20191027T010000
END:STANDARD
BEGIN:DAYLIGHT
TZOFFSETFROM:+0000
TZOFFSETTO:+0100
TZNAME:BST
DTSTART:20200329T010000
END:DAYLIGHT
BEGIN:STANDARD
TZOFFSETFROM:+0100
TZOFFSETTO:+0000
TZNAME:GMT
DTSTART:20201025T010000
END:STANDARD
END:VTIMEZONE
BEGIN:VEVENT
DTSTART;TZID=Europe/London:20191204T173000
DTEND;TZID=Europe/London:20191204T203000
DTSTAMP:20260421T040512
CREATED:20191202T165829Z
LAST-MODIFIED:20240317T083447Z
UID:421-1575480600-1575491400@isc2londonchapter.co.uk
SUMMARY:(ISC)² London Chapter Member Meeting
DESCRIPTION:The (ISC)2 London Chapter team cordially invite you to attend our Q4 Chapter members meeting on 4th December focusing on “Positivity in cyber security”. \nDue to high demand in places\, early sign-up is recommended. If you are unable to attend\, please cancel your tickets at least 3 days before the event\, so that we are able to reallocate it to a fellow chapter member on the waiting list. \nThe venue for the meeting will be: UBS\, 5 Broadgate\, London EC2M 2QS \nAgenda: \n\n5:30 pm – Welcome Drinks & Food\n6:30 pm – ISC2 London Chapter Update by James Packer & ISC2 Update by Deshini Newman\n6:45 pm – Briefings\n\nBriefing I: Using communications to enhance positive reputation\, Colonel Christopher Stuart MacGregor\, Assistant Head\, Army Media & Communications\nBriefing II: The Cyber Helpline – A UK where the cyber-criminals don’t win\, Rory Innes\, Founder & CEO\, The Cyber Helpline\n\n\n7:30 pm – Panel discussion\n\nDeshini Newman\, Managing director EMEA at (ISC)²\nDarren Argyle\, Group Chief Information Security Risk Officer\, Standard Chartered\nGohen Mohammad\, Head of Information Security\, L&Q Group\nNazim Ali\, Head of InfoSec\, Solutions and Digital\, KPMG\n\n\n8:30 pm – Close\n\nWe do hope that you can join us for this event. Places are limited. Sign-up is required for building security and to confirm numbers for catering. By signing up\, you also consent for photos to be taken during the event and to be posted on the social media and communication channels of ISC2 London Chapter. \nPlease note; Attendee list will be shared with venue for building security purposes. \nKind Regards\, \n(ISC)2 London Chapter Team
URL:https://isc2londonchapter.co.uk/event/isc%c2%b2-london-chapter-member-meeting/
LOCATION:UBS AG\, 5 Broadgate\, London\, EC2M 2QS\, United Kingdom
CATEGORIES:Member Meeting
ORGANIZER;CN="ISC2 London Chapter":MAILTO:membership@isc2londonchapter.co.uk
END:VEVENT
END:VCALENDAR