BEGIN:VCALENDAR
VERSION:2.0
PRODID:-//ISC2 London Chapter - ECPv6.15.17.1//NONSGML v1.0//EN
CALSCALE:GREGORIAN
METHOD:PUBLISH
X-ORIGINAL-URL:https://isc2londonchapter.co.uk
X-WR-CALDESC:Events for ISC2 London Chapter
REFRESH-INTERVAL;VALUE=DURATION:PT1H
X-Robots-Tag:noindex
X-PUBLISHED-TTL:PT1H
BEGIN:VTIMEZONE
TZID:Europe/London
BEGIN:DAYLIGHT
TZOFFSETFROM:+0000
TZOFFSETTO:+0100
TZNAME:BST
DTSTART:20250330T010000
END:DAYLIGHT
BEGIN:STANDARD
TZOFFSETFROM:+0100
TZOFFSETTO:+0000
TZNAME:GMT
DTSTART:20251026T010000
END:STANDARD
BEGIN:DAYLIGHT
TZOFFSETFROM:+0000
TZOFFSETTO:+0100
TZNAME:BST
DTSTART:20260329T010000
END:DAYLIGHT
BEGIN:STANDARD
TZOFFSETFROM:+0100
TZOFFSETTO:+0000
TZNAME:GMT
DTSTART:20261025T010000
END:STANDARD
BEGIN:DAYLIGHT
TZOFFSETFROM:+0000
TZOFFSETTO:+0100
TZNAME:BST
DTSTART:20270328T010000
END:DAYLIGHT
BEGIN:STANDARD
TZOFFSETFROM:+0100
TZOFFSETTO:+0000
TZNAME:GMT
DTSTART:20271031T010000
END:STANDARD
END:VTIMEZONE
BEGIN:VEVENT
DTSTART;TZID=Europe/London:20261118T213000
DTEND;TZID=Europe/London:20261118T213000
DTSTAMP:20260424T171527
CREATED:20260309T235638Z
LAST-MODIFIED:20260309T235638Z
UID:32667-1795037400-1795037400@isc2londonchapter.co.uk
SUMMARY:Data Privacy Regulation & Compliance
DESCRIPTION:
URL:https://isc2londonchapter.co.uk/event/data-privacy-regulation-compliance/
END:VEVENT
BEGIN:VEVENT
DTSTART;TZID=Europe/London:20261209T173000
DTEND;TZID=Europe/London:20261209T213000
DTSTAMP:20260424T171527
CREATED:20260309T235729Z
LAST-MODIFIED:20260309T235729Z
UID:32669-1796837400-1796851800@isc2londonchapter.co.uk
SUMMARY:The Future of Cybersecurity: Quantum and Post-Quantum Cryptography
DESCRIPTION:
URL:https://isc2londonchapter.co.uk/event/the-future-of-cybersecurity-quantum-and-post-quantum-cryptography/
END:VEVENT
END:VCALENDAR